BEGIN:VCALENDAR
VERSION:2.0
PRODID:-//Haus des Erinnerns - ECPv6.15.20//NONSGML v1.0//EN
CALSCALE:GREGORIAN
METHOD:PUBLISH
X-WR-CALNAME:Haus des Erinnerns
X-ORIGINAL-URL:https://www.haus-des-erinnerns-mainz.de
X-WR-CALDESC:Veranstaltungen für Haus des Erinnerns
REFRESH-INTERVAL;VALUE=DURATION:PT1H
X-Robots-Tag:noindex
X-PUBLISHED-TTL:PT1H
BEGIN:VTIMEZONE
TZID:Europe/Berlin
BEGIN:DAYLIGHT
TZOFFSETFROM:+0100
TZOFFSETTO:+0200
TZNAME:CEST
DTSTART:20220327T010000
END:DAYLIGHT
BEGIN:STANDARD
TZOFFSETFROM:+0200
TZOFFSETTO:+0100
TZNAME:CET
DTSTART:20221030T010000
END:STANDARD
BEGIN:DAYLIGHT
TZOFFSETFROM:+0100
TZOFFSETTO:+0200
TZNAME:CEST
DTSTART:20230326T010000
END:DAYLIGHT
BEGIN:STANDARD
TZOFFSETFROM:+0200
TZOFFSETTO:+0100
TZNAME:CET
DTSTART:20231029T010000
END:STANDARD
BEGIN:DAYLIGHT
TZOFFSETFROM:+0100
TZOFFSETTO:+0200
TZNAME:CEST
DTSTART:20240331T010000
END:DAYLIGHT
BEGIN:STANDARD
TZOFFSETFROM:+0200
TZOFFSETTO:+0100
TZNAME:CET
DTSTART:20241027T010000
END:STANDARD
END:VTIMEZONE
BEGIN:VEVENT
DTSTART;TZID=Europe/Berlin:20230713T183000
DTEND;TZID=Europe/Berlin:20230713T200000
DTSTAMP:20260423T051445
CREATED:20230620T133853Z
LAST-MODIFIED:20230620T133853Z
UID:6170-1689273000-1689278400@www.haus-des-erinnerns-mainz.de
SUMMARY:Die Bücherverbrennung in der Gutenbergstadt 1933 – Wie unter anderem Werke von Anna Seghers\, Rudolf Frank und Carl Zuckmayer in Flammen aufgingen
DESCRIPTION:Anlässlich der Erinnerung an die Bücherverbrennungen vor nunmehr 90 Jahren\, im Jahr 1933\, zeigt die Landeshauptstadt Mainz in Kooperation mit der Stiftung „Haus des Erinnerns – für Demokratie und Akzeptanz Mainz“ die Ausstellung „Verbrannte Orte“. Die Ausstellung schildert sowohl die reichsweiten Geschehnisse als auch die regionalen Ereignisse. \nAm 23. Juni 1933\, bezeichnenderweise dem Vorabend des Gutenberg-Festes\, organisierten Mainzer Studierende des Pädagogischen Instituts eine Bücherverbrennung. Vor der Verbrennung zog ein von den Studierenden geführter Fackelzug durch Mainz\, der sich vom Pädagogischen Institut in der Holzstraße über die Rheinstraße\, das Höfchen\, die Ludwigstraße\, Schillerstraße und Große Bleiche\, von dort zurück zur Rheinstraße bis zum Ort der Verbrennung führte. Auf dem Adolf-Hitler-Platz (vormalig Halleplatz)\, einem der wichtigsten Plätze in Mainz\, verbrannte die Studentenschaft so\, ausgerechnet am Vorabend des Festes\, bei dem man voller Stolz die Erfindung des Buchdruckes durch den Sohn der Stadt Johannes Gutenberg feierte\, Werke bedeutender Autor*innen. \nAuf den regionalen Ereignissen liegt auch der Fokus im Vortrag des Historikers und Journalisten Paul Birkner am Donnerstag\, 13. Juli um 18.30 Uhr im Haus des Erinnerns. So gibt Paul Birkner Einblick in die Mainzer Bücherverbrennung 1933 und verdeutlicht die Spezifika in Abgrenzung zu Bücherverbrennungen in anderen Städten. \nEine Kooperationsveranstaltung mit der Landeshauptstadt Mainz und dem Verein für Sozialgeschichte Mainz e.V.
URL:https://www.haus-des-erinnerns-mainz.de/index.php/veranstaltung/die-buecherverbrennung-in-der-gutenbergstadt-1933-wie-unter-anderem-werke-von-anna-seghers-rudolf-frank-und-carl-zuckmayer-in-flammen-aufgingen/
LOCATION:Haus des Erinnerns – für Demokratie und Akzeptanz Mainz\, Flachsmarktstraße 36\, Mainz
CATEGORIES:Termin 2023
END:VEVENT
END:VCALENDAR