BEGIN:VCALENDAR
VERSION:2.0
PRODID:-//Haus des Erinnerns - ECPv6.15.20//NONSGML v1.0//EN
CALSCALE:GREGORIAN
METHOD:PUBLISH
X-WR-CALNAME:Haus des Erinnerns
X-ORIGINAL-URL:https://www.haus-des-erinnerns-mainz.de
X-WR-CALDESC:Veranstaltungen für Haus des Erinnerns
REFRESH-INTERVAL;VALUE=DURATION:PT1H
X-Robots-Tag:noindex
X-PUBLISHED-TTL:PT1H
BEGIN:VTIMEZONE
TZID:Europe/Berlin
BEGIN:DAYLIGHT
TZOFFSETFROM:+0100
TZOFFSETTO:+0200
TZNAME:CEST
DTSTART:20230326T010000
END:DAYLIGHT
BEGIN:STANDARD
TZOFFSETFROM:+0200
TZOFFSETTO:+0100
TZNAME:CET
DTSTART:20231029T010000
END:STANDARD
BEGIN:DAYLIGHT
TZOFFSETFROM:+0100
TZOFFSETTO:+0200
TZNAME:CEST
DTSTART:20240331T010000
END:DAYLIGHT
BEGIN:STANDARD
TZOFFSETFROM:+0200
TZOFFSETTO:+0100
TZNAME:CET
DTSTART:20241027T010000
END:STANDARD
BEGIN:DAYLIGHT
TZOFFSETFROM:+0100
TZOFFSETTO:+0200
TZNAME:CEST
DTSTART:20250330T010000
END:DAYLIGHT
BEGIN:STANDARD
TZOFFSETFROM:+0200
TZOFFSETTO:+0100
TZNAME:CET
DTSTART:20251026T010000
END:STANDARD
END:VTIMEZONE
BEGIN:VEVENT
DTSTART;TZID=Europe/Berlin:20241013T110000
DTEND;TZID=Europe/Berlin:20241013T130000
DTSTAMP:20260419T174906
CREATED:20240705T135152Z
LAST-MODIFIED:20240705T135152Z
UID:7206-1728817200-1728824400@www.haus-des-erinnerns-mainz.de
SUMMARY:Rundgang: Auf den Spuren der Demokratie durch Mainz
DESCRIPTION:Von der Mainzer Republik zum Land Rheinland-Pfalz – Auf den Spuren der Demokratie durch Mainz \nAn den historischen Orten soll an Ereignisse und Persönlichkeiten erinnert werden\, die mit der Entwicklung der Demokratie in Mainz in Zusammenhang stehen\, ausgehend von der Mainzer Republik von 1792/93 über die Revolution von1848/49\, die Novemberrevolution von 1918 und den Widerstand gegen das NS-Regime bis zu den ersten Wahlen nach 1945 und den Einzug des rheinland-pfälzischen Landtags in das wiederaufgebaute Deutschhaus. \nSonntag\, 13. Oktober 2024\, 11–13 Uhr\nTreff- und Endpunkt: Platz der Mainzer Republik (Landtag) \nEine Anmeldung zu den Rundgängen ist nicht mehr erforderlich.\nFür Rückfragen stehen wir gerne unter rundgang@sozialgeschichte-mainz.de zur Verfügung.\nDie Teilnahmegebühr beträgt 6\,00 € (ermäßigt 5\,00 €). \nWeitere Informationen erhalten Sie in unserem Flyer.
URL:https://www.haus-des-erinnerns-mainz.de/index.php/veranstaltung/rundgang-auf-den-spuren-der-demokratie-durch-mainz/
LOCATION:Platz der Mainzer Republik
CATEGORIES:Termin 2024
ATTACH;FMTTYPE=image/png:https://www.haus-des-erinnerns-mainz.de/wp-content/uploads/2024/07/Thematische-Stadtrundgaenge-2024-e1720181816272.png
END:VEVENT
END:VCALENDAR