BEGIN:VCALENDAR
VERSION:2.0
PRODID:-//Haus des Erinnerns - ECPv6.15.20//NONSGML v1.0//EN
CALSCALE:GREGORIAN
METHOD:PUBLISH
X-WR-CALNAME:Haus des Erinnerns
X-ORIGINAL-URL:https://www.haus-des-erinnerns-mainz.de
X-WR-CALDESC:Veranstaltungen für Haus des Erinnerns
REFRESH-INTERVAL;VALUE=DURATION:PT1H
X-Robots-Tag:noindex
X-PUBLISHED-TTL:PT1H
BEGIN:VTIMEZONE
TZID:Europe/Berlin
BEGIN:DAYLIGHT
TZOFFSETFROM:+0100
TZOFFSETTO:+0200
TZNAME:CEST
DTSTART:20230326T010000
END:DAYLIGHT
BEGIN:STANDARD
TZOFFSETFROM:+0200
TZOFFSETTO:+0100
TZNAME:CET
DTSTART:20231029T010000
END:STANDARD
BEGIN:DAYLIGHT
TZOFFSETFROM:+0100
TZOFFSETTO:+0200
TZNAME:CEST
DTSTART:20240331T010000
END:DAYLIGHT
BEGIN:STANDARD
TZOFFSETFROM:+0200
TZOFFSETTO:+0100
TZNAME:CET
DTSTART:20241027T010000
END:STANDARD
BEGIN:DAYLIGHT
TZOFFSETFROM:+0100
TZOFFSETTO:+0200
TZNAME:CEST
DTSTART:20250330T010000
END:DAYLIGHT
BEGIN:STANDARD
TZOFFSETFROM:+0200
TZOFFSETTO:+0100
TZNAME:CET
DTSTART:20251026T010000
END:STANDARD
END:VTIMEZONE
BEGIN:VEVENT
DTSTART;TZID=Europe/Berlin:20240825T110000
DTEND;TZID=Europe/Berlin:20240825T130000
DTSTAMP:20260419T201751
CREATED:20240705T134345Z
LAST-MODIFIED:20240705T134606Z
UID:7199-1724583600-1724590800@www.haus-des-erinnerns-mainz.de
SUMMARY:Rundgang: Auf den Spuren der Nachkriegszeit durch Mainz
DESCRIPTION:Trümmerjahre und Kultur – Auf den Spuren der Nachkriegszeit durch Mainz \nDer Rundgang führt uns zu Stätten in Mainz\, die eng mit dem politischen und kulturellen Neuanfang nach dem Ende der nationalsozialistischen Diktatur verbunden sind. Mitten in den Trümmern entstanden mit Hilfe der französischen Militärregierung bedeutende Kultureinrichtungen. Zeitungen durften wieder erscheinen\, die ersten freien Wahlen seit 1933 fanden statt\, Wiederaufbauplanungen für das zerstörter Mainz wurden disktiert. \nSonntag\, 25. August 2024\, 11–13 Uhr\nTreffpunkt: Schillerplatz (Fastnachtsbrunnen)\nEndpunkt: Platz der Mainzer Republik \nEine Anmeldung zu den Rundgängen ist nicht mehr erforderlich.\nFür Rückfragen stehen wir gerne unter rundgang@sozialgeschichte-mainz.de zur Verfügung.\nDie Teilnahmegebühr beträgt 6\,00 € (ermäßigt 5\,00 €). \nWeitere Informationen erhalten Sie in unserem Flyer.
URL:https://www.haus-des-erinnerns-mainz.de/index.php/veranstaltung/rundgang-auf-den-spuren-der-nachkriegszeit-durch-mainz/
LOCATION:Schillerplatz\, Mainz
CATEGORIES:Termin 2024
ATTACH;FMTTYPE=image/png:https://www.haus-des-erinnerns-mainz.de/wp-content/uploads/2024/07/Thematische-Stadtrundgaenge-2024-e1720181816272.png
END:VEVENT
END:VCALENDAR