BEGIN:VCALENDAR
VERSION:2.0
PRODID:-//Haus des Erinnerns - ECPv6.15.20//NONSGML v1.0//EN
CALSCALE:GREGORIAN
METHOD:PUBLISH
X-ORIGINAL-URL:https://www.haus-des-erinnerns-mainz.de
X-WR-CALDESC:Veranstaltungen für Haus des Erinnerns
REFRESH-INTERVAL;VALUE=DURATION:PT1H
X-Robots-Tag:noindex
X-PUBLISHED-TTL:PT1H
BEGIN:VTIMEZONE
TZID:Europe/Berlin
BEGIN:DAYLIGHT
TZOFFSETFROM:+0100
TZOFFSETTO:+0200
TZNAME:CEST
DTSTART:20210328T010000
END:DAYLIGHT
BEGIN:STANDARD
TZOFFSETFROM:+0200
TZOFFSETTO:+0100
TZNAME:CET
DTSTART:20211031T010000
END:STANDARD
BEGIN:DAYLIGHT
TZOFFSETFROM:+0100
TZOFFSETTO:+0200
TZNAME:CEST
DTSTART:20220327T010000
END:DAYLIGHT
BEGIN:STANDARD
TZOFFSETFROM:+0200
TZOFFSETTO:+0100
TZNAME:CET
DTSTART:20221030T010000
END:STANDARD
BEGIN:DAYLIGHT
TZOFFSETFROM:+0100
TZOFFSETTO:+0200
TZNAME:CEST
DTSTART:20230326T010000
END:DAYLIGHT
BEGIN:STANDARD
TZOFFSETFROM:+0200
TZOFFSETTO:+0100
TZNAME:CET
DTSTART:20231029T010000
END:STANDARD
END:VTIMEZONE
BEGIN:VEVENT
DTSTART;TZID=Europe/Berlin:20220916T160000
DTEND;TZID=Europe/Berlin:20220916T180000
DTSTAMP:20260423T054917
CREATED:20220902T110810Z
LAST-MODIFIED:20220907T111110Z
UID:5416-1663344000-1663351200@www.haus-des-erinnerns-mainz.de
SUMMARY:Auf den Spuren jüdischer Geschichte durch die Mainzer Neustadt
DESCRIPTION:2022 feiert die Mainzer Neustadt ihren 150. Geburtstag. Auch wir sind dabei mit einem Stadtrundgang durch die Neustadt: \nJüdisches Leben hat in Mainz eine jahrhundertealte Geschichte. Auch die Mainzer Neustadt war und ist in den letzten 150 Jahren Schauplatz der facetteneichen und wechselvollen Geschichte der jüdischen Mainzer*innen gewesen. Die Zeit des Nationalsozialismus und der Shoah haben in dieser Geschichte bis heute ihre Spuren hinterlassen. Auf dem rund zweistündigen Rundgang\, erfahren Sie mehr über die Biografien von Menschen wie Anna Seghers oder Eugen Salomon\, deren Wirken Mainz bis heute prägt\, aber auch über die Geschichte ganz alltäglicher Menschen und Ereignisse\, die einmal mehr die Diversität jüdischen Lebens auch über die Shoah hinaus offenbaren. Unterstützt durch historisches Bildmaterial gibt der Rundgang so einen Einblick in die letzten 150 Jahre der Mainzer Neustadt\, die im Hinblick auf das jahrhundertealte Leben von Mainzer Jüdinnen*Juden eine wichtige Rolle spielt. \nJetzt per Mail an cornelia.dold[at]haus-des-erinnerns-mainz.de anmelden und dabei sein! \nTreffpunkt: Neustadt-Trinkhalle (Haltestelle Lessingstraße) \n  \n  \n© Stadt Mainz
URL:https://www.haus-des-erinnerns-mainz.de/index.php/veranstaltung/auf-den-spuren-juedischer-geschichte-durch-die-mainzer-neustadt/
LOCATION:Neustadt-Trinkhalle Mainz
CATEGORIES:Termin 2022
END:VEVENT
END:VCALENDAR