BEGIN:VCALENDAR
VERSION:2.0
PRODID:-//Haus des Erinnerns - ECPv6.15.20//NONSGML v1.0//EN
CALSCALE:GREGORIAN
METHOD:PUBLISH
X-ORIGINAL-URL:https://www.haus-des-erinnerns-mainz.de
X-WR-CALDESC:Veranstaltungen für Haus des Erinnerns
REFRESH-INTERVAL;VALUE=DURATION:PT1H
X-Robots-Tag:noindex
X-PUBLISHED-TTL:PT1H
BEGIN:VTIMEZONE
TZID:Europe/Berlin
BEGIN:DAYLIGHT
TZOFFSETFROM:+0100
TZOFFSETTO:+0200
TZNAME:CEST
DTSTART:20200329T010000
END:DAYLIGHT
BEGIN:STANDARD
TZOFFSETFROM:+0200
TZOFFSETTO:+0100
TZNAME:CET
DTSTART:20201025T010000
END:STANDARD
BEGIN:DAYLIGHT
TZOFFSETFROM:+0100
TZOFFSETTO:+0200
TZNAME:CEST
DTSTART:20210328T010000
END:DAYLIGHT
BEGIN:STANDARD
TZOFFSETFROM:+0200
TZOFFSETTO:+0100
TZNAME:CET
DTSTART:20211031T010000
END:STANDARD
BEGIN:DAYLIGHT
TZOFFSETFROM:+0100
TZOFFSETTO:+0200
TZNAME:CEST
DTSTART:20220327T010000
END:DAYLIGHT
BEGIN:STANDARD
TZOFFSETFROM:+0200
TZOFFSETTO:+0100
TZNAME:CET
DTSTART:20221030T010000
END:STANDARD
END:VTIMEZONE
BEGIN:VEVENT
DTSTART;TZID=Europe/Berlin:20211031T190000
DTEND;TZID=Europe/Berlin:20211031T203000
DTSTAMP:20260424T042029
CREATED:20210921T101437Z
LAST-MODIFIED:20210921T101922Z
UID:3224-1635706800-1635712200@www.haus-des-erinnerns-mainz.de
SUMMARY:Lesung mit Andreas Berg: Sommer 1934\, oder wie der Führer mir meine erste Liebe ausspannte
DESCRIPTION:Sommer 1934\, oder wie der Führer mir meine erste Liebe ausspannte \nLesung mit SWR-Kulturredakteur und Autor Andreas Berg \nJakob Felsenthal\, ein Maler aus England\, kehrt nach Jahrzehnten zum ersten Mal wieder in seine Pfälzer Heimat zurück. Der  Anlass: 60 Jahre nach der Reichspogromnacht soll es für ehemalige jüdische Mitbürgerinnen und Mitbürger ein Wiedersehen mit den Stätten ihrer Jugend geben. Für Felsenthal wird die Reise zu einem zwiespältigen Erlebnis. Einerseits\nerlebt er ein verändertes Deutschland\, das die ehemaligen Pfälzerinnen und Pfälzer mit offenen Armen empfängt. Andererseits gerät der Ausflug aber auch zu einer schmerzhaften Reise in die eigene Vergangenheit. Erinnerungen an\nden Verlust einer unbeschwerten Kindheit werden wach und an die erste große Liebe\, die durch die aufkommenden Nürnberger Rassegesetze ein jähes Ende erfährt. \nAndreas Berg\, 1959 in Wiesbaden geboren\, ist seit 1987 Kulturredakteur und Filmemacher beim SWR. Er veröffentlichte vier Lyrikbände\, außerdem Texte in zahlreichen Anthologien. \nHinweis: Eine Anmeldung unter der Angabe der Kontaktdaten ist erforderlich. Die Durchführung der Veranstaltung hängt von den jeweils geltenden Vorschriften zu Covid 19 ab. \nE-Mail zur Anmeldung und Fragen: cornelia.dold[at]haus-des-erinnerns-mainz.de; Tel. 06131 – 617 74 47 \nDie Veranstaltung ist Teil des Programms zu den Jüdischen Kulturtagen Mainz. 
URL:https://www.haus-des-erinnerns-mainz.de/index.php/veranstaltung/lesung-mit-andreas-berg-sommer-1934-oder-wie-der-fuehrer-mir-meine-erste-liebe-ausspannte/
LOCATION:Mainzer Kammerspiele\, Malakoff Passage\, Rheinstraße 4\, Mainz\, Rheinland-Pfalz\, 55116\, Deutschland
CATEGORIES:Termin 2021
END:VEVENT
END:VCALENDAR