BEGIN:VCALENDAR
VERSION:2.0
PRODID:-//Haus des Erinnerns - ECPv6.15.20//NONSGML v1.0//EN
CALSCALE:GREGORIAN
METHOD:PUBLISH
X-ORIGINAL-URL:https://www.haus-des-erinnerns-mainz.de
X-WR-CALDESC:Veranstaltungen für Haus des Erinnerns
REFRESH-INTERVAL;VALUE=DURATION:PT1H
X-Robots-Tag:noindex
X-PUBLISHED-TTL:PT1H
BEGIN:VTIMEZONE
TZID:Europe/Berlin
BEGIN:DAYLIGHT
TZOFFSETFROM:+0100
TZOFFSETTO:+0200
TZNAME:CEST
DTSTART:20230326T010000
END:DAYLIGHT
BEGIN:STANDARD
TZOFFSETFROM:+0200
TZOFFSETTO:+0100
TZNAME:CET
DTSTART:20231029T010000
END:STANDARD
BEGIN:DAYLIGHT
TZOFFSETFROM:+0100
TZOFFSETTO:+0200
TZNAME:CEST
DTSTART:20240331T010000
END:DAYLIGHT
BEGIN:STANDARD
TZOFFSETFROM:+0200
TZOFFSETTO:+0100
TZNAME:CET
DTSTART:20241027T010000
END:STANDARD
BEGIN:DAYLIGHT
TZOFFSETFROM:+0100
TZOFFSETTO:+0200
TZNAME:CEST
DTSTART:20250330T010000
END:DAYLIGHT
BEGIN:STANDARD
TZOFFSETFROM:+0200
TZOFFSETTO:+0100
TZNAME:CET
DTSTART:20251026T010000
END:STANDARD
END:VTIMEZONE
BEGIN:VEVENT
DTSTART;TZID=Europe/Berlin:20240121T180000
DTEND;TZID=Europe/Berlin:20240121T193000
DTSTAMP:20260423T005553
CREATED:20231221T122402Z
LAST-MODIFIED:20231221T122402Z
UID:6533-1705860000-1705865400@www.haus-des-erinnerns-mainz.de
SUMMARY:Zwangsarbeit für den „Endsieg“: Das KZ Mittelbau-Dora 1943–1945 | Ausstellungseröffnung mit Vortrag
DESCRIPTION:Mittelbau-Dora steht exemplarisch für die Geschichte der mörderischen KZ-Zwangsarbeit und der Untertageverlagerung von Rüstungsfertigungen in der letzten Phase des Zweiten Weltkriegs. „Dora“ wurde Ende August 1943 als Außenlager des KZ Buchenwald gegründet: KZ-Häftlinge mussten eine Stollenanlage im Kohnstein bei Nordhausen zur Fabrik ausbauen. Nur ein geringer Teil der Häftlinge war in unterirdischen Rüstungs-produktionen eingesetzt\, die meisten mussten auf den zahlreichen Baustellen kraftraubende Zwangsarbeit leisten. Am Ende bestand der Mittelbau-Komplex aus 40 Lagern\, in die insgesamt 60.000 Menschen aus fast allen Teilen des besetzten Europas verschleppt worden waren – etwa 20.000 von ihnen haben dies nicht überlebt. \nDie Ausstellung zeigt auf thematischen Bannern die Geschichte des Konzentrationslagers\, beleuchtet Biografien von Tätern und Opfern und erläutert die Systematik der NS-Zwangsarbeit. Sie wird ergänzt durch Informationen zur Zwangsarbeit in Mainz und Umgebung. \nIm Anschluss an die Eröffnung der Ausstellung wird diese vom 22. Januar bis zum 2. Februar 2024 im Haus des Erinnerns Mainz in der Flachsmarktstr. 36 gezeigt. Dort ist sie von montags bis freitags zwischen 10 und 16 Uhr zu besichtigen. \nEintritt frei. \nAnmeldung per E-Mail erbeten an: erinnerung@ente-bagdad.de \nEine Kooperationsveranstaltung mit FC Ente Bagdad\, VVN-BdA\, KV Mainz-Bingen\, Frauenbüro der Stadt Mainz\, dem 1. FSV Mainz 05\, dem Landessportbund RLP und der Akademie des Bistums Mainz Erbacher Hof. \nBild: © Stiftung Gedenkstätten Buchenwald
URL:https://www.haus-des-erinnerns-mainz.de/index.php/veranstaltung/zwangsarbeit-fuer-den-endsieg-das-kz-mittelbau-dora-1943-1945-ausstellungseroeffnung-mit-vortrag/
LOCATION:Haus des Erinnerns – für Demokratie und Akzeptanz Mainz\, Flachsmarktstraße 36\, Mainz
CATEGORIES:Januar,Termin 2024
END:VEVENT
END:VCALENDAR