BEGIN:VCALENDAR
VERSION:2.0
PRODID:-//Haus des Erinnerns - ECPv6.15.20//NONSGML v1.0//EN
CALSCALE:GREGORIAN
METHOD:PUBLISH
X-WR-CALNAME:Haus des Erinnerns
X-ORIGINAL-URL:https://www.haus-des-erinnerns-mainz.de
X-WR-CALDESC:Veranstaltungen für Haus des Erinnerns
REFRESH-INTERVAL;VALUE=DURATION:PT1H
X-Robots-Tag:noindex
X-PUBLISHED-TTL:PT1H
BEGIN:VTIMEZONE
TZID:Europe/Berlin
BEGIN:DAYLIGHT
TZOFFSETFROM:+0100
TZOFFSETTO:+0200
TZNAME:CEST
DTSTART:20210328T010000
END:DAYLIGHT
BEGIN:STANDARD
TZOFFSETFROM:+0200
TZOFFSETTO:+0100
TZNAME:CET
DTSTART:20211031T010000
END:STANDARD
BEGIN:DAYLIGHT
TZOFFSETFROM:+0100
TZOFFSETTO:+0200
TZNAME:CEST
DTSTART:20220327T010000
END:DAYLIGHT
BEGIN:STANDARD
TZOFFSETFROM:+0200
TZOFFSETTO:+0100
TZNAME:CET
DTSTART:20221030T010000
END:STANDARD
BEGIN:DAYLIGHT
TZOFFSETFROM:+0100
TZOFFSETTO:+0200
TZNAME:CEST
DTSTART:20230326T010000
END:DAYLIGHT
BEGIN:STANDARD
TZOFFSETFROM:+0200
TZOFFSETTO:+0100
TZNAME:CET
DTSTART:20231029T010000
END:STANDARD
END:VTIMEZONE
BEGIN:VEVENT
DTSTART;TZID=Europe/Berlin:20220905T140000
DTEND;TZID=Europe/Berlin:20220908T123000
DTSTAMP:20260422T221109
CREATED:20220815T114943Z
LAST-MODIFIED:20220815T115451Z
UID:5355-1662386400-1662640200@www.haus-des-erinnerns-mainz.de
SUMMARY:Veranstaltungshinweis: Gedenke\, Mensch... Orte gesellschaftlicher und kirchlicher Erinnerungskultur in Geschichte und Gegenwart
DESCRIPTION:Gerne weisen wir auf die Einladung zu den sommerlichen Studientagen Kunst und Liturgie des Erbacher Hofs – Akademie des Bistums Mainz hin. \nIn Yad Vashem\, der Gedenkstätte für die Opfer der Shoa\, findet sich der berühmte und oft zitierte Satz: „Das Exil wird länger und länger des Vergessens wegen\, aber im Erinnern liegt das Geheimnis der Erlösung.“\nTatsächlich stehen viele religiöse und speziell die biblisch begründeten Liturgien in enger Beziehung zum grundmenschlichen Vollzug des Erinnerns bzw. Gedenkens und zu Zeiten und Orten entsprechender Praktiken. Gerade Erinnerungs-/Gedächtnisorte sind dabei oft auch künstlerisch in vielfältiger Weise gestaltet.\nSie speichern zum Teil eine Fülle an Bedeutungen und regen immer wieder neu an\, sich kollektiv wie individuell mit Vergangenheit(en) auseinanderzusetzen. So können Menschen Dankbarkeit kultivieren\, sich aber ebenso mit Schuld konfrontieren und sich der eigenen Verantwortung stellen. \nDie diesjährigen Studientage „Kunst und Liturgie“ gehen diesen Zusammenhängen in bewährter Form interdisziplinär nach und führen (liturgie-)theologisch und kunsthistorisch Interessierte zu Vorträgen\, Exkursionen und intensivem Austausch zusammen. \nHier gelangen Sie zum ausführlichen Flyer mit Programmablauf. \nAm 7. September 2022 findet um 19 Uhr ein Podiumsgespräch zum Thema „Gedenke\, Mensch… Gedenken und Gedenkorte in den Religionen und verschiedenen gesellschaftlichen Gruppen“. \nEine Anmeldung ist erforderlich und kann per Mail an ebh.akademie[at]bistum-mainz.de gerichtet werden oder online erfolgen.
URL:https://www.haus-des-erinnerns-mainz.de/index.php/veranstaltung/veranstaltungshinweis-gedenke-mensch-orte-gesellschaftlicher-und-kirchlicher-erinnerungskultur-in-geschichte-und-gegenwart/
LOCATION:Erbacher Hof – Akademie des Bistums Mainz\, Grebenstr. 24–26\, Mainz\, Rheinland-Pfalz\, 55116
CATEGORIES:September,Termin 2022
END:VEVENT
END:VCALENDAR