BEGIN:VCALENDAR
VERSION:2.0
PRODID:-//Haus des Erinnerns - ECPv6.15.20//NONSGML v1.0//EN
CALSCALE:GREGORIAN
METHOD:PUBLISH
X-ORIGINAL-URL:https://www.haus-des-erinnerns-mainz.de
X-WR-CALDESC:Veranstaltungen für Haus des Erinnerns
REFRESH-INTERVAL;VALUE=DURATION:PT1H
X-Robots-Tag:noindex
X-PUBLISHED-TTL:PT1H
BEGIN:VTIMEZONE
TZID:Europe/Berlin
BEGIN:DAYLIGHT
TZOFFSETFROM:+0100
TZOFFSETTO:+0200
TZNAME:CEST
DTSTART:20210328T010000
END:DAYLIGHT
BEGIN:STANDARD
TZOFFSETFROM:+0200
TZOFFSETTO:+0100
TZNAME:CET
DTSTART:20211031T010000
END:STANDARD
BEGIN:DAYLIGHT
TZOFFSETFROM:+0100
TZOFFSETTO:+0200
TZNAME:CEST
DTSTART:20220327T010000
END:DAYLIGHT
BEGIN:STANDARD
TZOFFSETFROM:+0200
TZOFFSETTO:+0100
TZNAME:CET
DTSTART:20221030T010000
END:STANDARD
BEGIN:DAYLIGHT
TZOFFSETFROM:+0100
TZOFFSETTO:+0200
TZNAME:CEST
DTSTART:20230326T010000
END:DAYLIGHT
BEGIN:STANDARD
TZOFFSETFROM:+0200
TZOFFSETTO:+0100
TZNAME:CET
DTSTART:20231029T010000
END:STANDARD
END:VTIMEZONE
BEGIN:VEVENT
DTSTART;VALUE=DATE:20220110
DTEND;VALUE=DATE:20220207
DTSTAMP:20260423T091542
CREATED:20211220T111406Z
LAST-MODIFIED:20211220T111406Z
UID:4740-1641772800-1644191999@www.haus-des-erinnerns-mainz.de
SUMMARY:ZeitSichten – Fotoausstellung zu rheinland-pfälzischen Erinnerungsorten
DESCRIPTION:Die Nationalsozialisten errichteten gleich zu Beginn ihrer Herrschaft etwa 100 sogenannte frühe Konzentrationslager. Viele dieser oft kurzzeitigen Folterstätten sind heute vergessen und von den unvorstellbaren Bedingungen in den späteren Konzentrationslagern im öffentlichen Bewusstsein überlagert. Doch in den frühen KZs begann die unmenschliche Barbarei\, die in einem durchorganisierten millionenfachen Massenmord endete. \nDie Fotoausstellung ZeitSichten möchte genau hier ansetzen und fordert die Betrachter*innen dazu auf\, sich näher mit diesen frühen Zeugnissen des Terrors zu beschäftigen. \nDer Neustadter Künstler und Journalist Christian Martischius hat dafür die Gedenkstätten in Osthofen und Neustadt mit der Kamera besucht. Oft sind es die kleinen Details und nicht die großen Ansichten\, die Martischius dort auf seinen Bildern festhält\, und die\, verstärkt durch das Spiel mit langen Belichtungszeiten\, zu einer intensiven Auseinandersetzung mit dem Motiv führen. \nDie Ausstellung wird zwischen dem 10. Januar und dem 6. Februar im Schaufenster des „Haus des Erinnerns – für Demokratie und Akzeptanz Mainz“ nach außen hin öffentlich präsentiert.  \nVeranstaltende: Haus des Erinnerns – für Demokratie und Akzeptanz Mainz und Landeszentrale für politische Bildung Rheinland-Pfalz
URL:https://www.haus-des-erinnerns-mainz.de/index.php/veranstaltung/zeitsichten-fotoausstellung-zu-rheinland-pfaelzischen-erinnerungsorten/
LOCATION:Haus des Erinnerns – für Demokratie und Akzeptanz Mainz\, Flachsmarktstraße 36\, Mainz
CATEGORIES:Termin 2022
END:VEVENT
BEGIN:VEVENT
DTSTART;TZID=Europe/Berlin:20220122T110000
DTEND;TZID=Europe/Berlin:20220122T130000
DTSTAMP:20260423T091542
CREATED:20211220T112207Z
LAST-MODIFIED:20220114T154909Z
UID:4743-1642849200-1642856400@www.haus-des-erinnerns-mainz.de
SUMMARY:VERSCHOBEN! Steine können sprechen – Lyrisch-musikalischer Gang entlang von Stolpersteinen in Mainz
DESCRIPTION:Auf dem lyrisch-musikalischen Gang „Steine können sprechen“ stellen wir Biografien vor\, die sich hinter den wenigen Daten auf den Stolpersteinen verbergen. Begleitet wird der Gang von Lyrik und Liedern aus Konzentrationslagern und der Nachkriegszeit. \nWir erinnern an Anni Eisler-Lehmann\, Philippine Koch\, Johanna Schönberger\, Alice Stahn (geborene Friedmann)\, Max London\, Elise Haas und Ruth Eis (geborene Levi). Wer waren diese Menschen\, was machte ihren Alltag\, ihr Leben vor der Zeit des Nationalsozialismus aus? Welches Schicksal steckt hinter ihrem Namen\, wie verliefen ihre Leidenswege?  \nDer Stadtrundgang ist kostenfrei. Eine Teilnahme ist nur nach vorheriger Anmeldung per Mail an cornelia.dold[at]haus-des-erinnerns-mainz.de  möglich. Die Plätze sind begrenzt. \nVeranstaltende: Haus des Erinnerns – für Demokratie und Akzeptanz Mainz\, Landeshauptstadt Mainz | Amt für Kultur und Bibliotheken\, Frauenbüro der Stadt Mainz und FC Ente Bagdad \nDie Veranstaltung findet voraussichtlich Ende April statt. 
URL:https://www.haus-des-erinnerns-mainz.de/index.php/veranstaltung/steine-koennen-sprechen-lyrisch-musikalischer-gang-entlang-von-stolpersteinen-in-mainz/
LOCATION:Tritonplatz Mainz
CATEGORIES:Termin 2022
END:VEVENT
END:VCALENDAR