BEGIN:VCALENDAR
VERSION:2.0
PRODID:-//Haus des Erinnerns - ECPv6.15.20//NONSGML v1.0//EN
CALSCALE:GREGORIAN
METHOD:PUBLISH
X-ORIGINAL-URL:https://www.haus-des-erinnerns-mainz.de
X-WR-CALDESC:Veranstaltungen für Haus des Erinnerns
REFRESH-INTERVAL;VALUE=DURATION:PT1H
X-Robots-Tag:noindex
X-PUBLISHED-TTL:PT1H
BEGIN:VTIMEZONE
TZID:Europe/Berlin
BEGIN:DAYLIGHT
TZOFFSETFROM:+0100
TZOFFSETTO:+0200
TZNAME:CEST
DTSTART:20230326T010000
END:DAYLIGHT
BEGIN:STANDARD
TZOFFSETFROM:+0200
TZOFFSETTO:+0100
TZNAME:CET
DTSTART:20231029T010000
END:STANDARD
BEGIN:DAYLIGHT
TZOFFSETFROM:+0100
TZOFFSETTO:+0200
TZNAME:CEST
DTSTART:20240331T010000
END:DAYLIGHT
BEGIN:STANDARD
TZOFFSETFROM:+0200
TZOFFSETTO:+0100
TZNAME:CET
DTSTART:20241027T010000
END:STANDARD
BEGIN:DAYLIGHT
TZOFFSETFROM:+0100
TZOFFSETTO:+0200
TZNAME:CEST
DTSTART:20250330T010000
END:DAYLIGHT
BEGIN:STANDARD
TZOFFSETFROM:+0200
TZOFFSETTO:+0100
TZNAME:CET
DTSTART:20251026T010000
END:STANDARD
END:VTIMEZONE
BEGIN:VEVENT
DTSTART;TZID=Europe/Berlin:20240128T150000
DTEND;TZID=Europe/Berlin:20240128T163000
DTSTAMP:20260423T071520
CREATED:20231221T124954Z
LAST-MODIFIED:20231221T124954Z
UID:6557-1706454000-1706459400@www.haus-des-erinnerns-mainz.de
SUMMARY:Gedenkveranstaltung an den Mahnmalen auf dem Waldfriedhof Mainz-Mombach | Besuch zweier Gedenkstätten mit Vortrag
DESCRIPTION:An diesem Sonntagnachmittag wollen wir im Rahmen der Mainzer Erinnerungswochen kurz innehalten und all derer gedenken\, die durch das faschistische NS-Regime zur Zwangsarbeit gezwungen wurden. \nAn zwei Orten auf dem Mombacher Waldfriedhof erinnern wir an die Zwangsarbeiterinnen und Zwangsarbeiter sowie an den Umgang mit den Opfern des Faschismus in Mainz und hören kurze Vorträge zu folgenden Themen: \n\nGedenken an die Opfer der faschistischen Zwangsarbet in Mainz: das sowjetische Ehrenmal auf dem Waldfriedhof in Mainz-Mombach\nMainzer Umgang mit dem Gedenken an die Opfer des Faschismus: Die Geschichte des VVN-Gedenksteins auf dem Mombacher Waldfriedhof\n\n \nDer Eintritt ist frei. Treffpunkt ist der Friedhofseingang des Waldfriedhofs in Mainz-Mombach. \nAnmeldung per Mail an erinnerung@ente-bagdad.de \n► Die Veranstaltung ist Teil der Mainzer Erinnerungswochen \nEine Kooperationsveranstaltung mit FC Ente Bagdad\, VVN-BdA\, KV Mainz-Bingen\, Frauenbüro der Stadt Mainz\, dem 1. FSV Mainz 05\, dem Landessportbund RLP und der Akademie des Bistums Mainz Erbacher Hof. \n© VVN-BdA\, KV Mainz-Bingen
URL:https://www.haus-des-erinnerns-mainz.de/index.php/veranstaltung/gedenkveranstaltung-an-den-mahnmalen-auf-dem-waldfriedhof-mainz-mombach-besuch-zweier-gedenkstaetten-mit-vortrag/
LOCATION:Friedhofseingang Waldfriedhof Mainz-Mombach\, Am Waldfriedhof\, Mainz\, Rheinland-Pfalz\, 55120\, Deutschland
CATEGORIES:Januar,Termin 2024
END:VEVENT
END:VCALENDAR