BEGIN:VCALENDAR
VERSION:2.0
PRODID:-//Haus des Erinnerns - ECPv6.15.20//NONSGML v1.0//EN
CALSCALE:GREGORIAN
METHOD:PUBLISH
X-WR-CALNAME:Haus des Erinnerns
X-ORIGINAL-URL:https://www.haus-des-erinnerns-mainz.de
X-WR-CALDESC:Veranstaltungen für Haus des Erinnerns
REFRESH-INTERVAL;VALUE=DURATION:PT1H
X-Robots-Tag:noindex
X-PUBLISHED-TTL:PT1H
BEGIN:VTIMEZONE
TZID:Europe/Berlin
BEGIN:DAYLIGHT
TZOFFSETFROM:+0100
TZOFFSETTO:+0200
TZNAME:CEST
DTSTART:20220327T010000
END:DAYLIGHT
BEGIN:STANDARD
TZOFFSETFROM:+0200
TZOFFSETTO:+0100
TZNAME:CET
DTSTART:20221030T010000
END:STANDARD
BEGIN:DAYLIGHT
TZOFFSETFROM:+0100
TZOFFSETTO:+0200
TZNAME:CEST
DTSTART:20230326T010000
END:DAYLIGHT
BEGIN:STANDARD
TZOFFSETFROM:+0200
TZOFFSETTO:+0100
TZNAME:CET
DTSTART:20231029T010000
END:STANDARD
BEGIN:DAYLIGHT
TZOFFSETFROM:+0100
TZOFFSETTO:+0200
TZNAME:CEST
DTSTART:20240331T010000
END:DAYLIGHT
BEGIN:STANDARD
TZOFFSETFROM:+0200
TZOFFSETTO:+0100
TZNAME:CET
DTSTART:20241027T010000
END:STANDARD
END:VTIMEZONE
BEGIN:VEVENT
DTSTART;TZID=Europe/Berlin:20231026T183000
DTEND;TZID=Europe/Berlin:20231026T210000
DTSTAMP:20260422T120427
CREATED:20230929T222523Z
LAST-MODIFIED:20230929T222523Z
UID:6310-1698345000-1698354000@www.haus-des-erinnerns-mainz.de
SUMMARY:Buchvorstellung: „Aufbruch im Licht der Sterne“ mit Autor Frank Vorpahl
DESCRIPTION:Aufbruch im Licht der Sterne \nWie Tupaia\, Maheine und Mai Captain Cook den Weg durch die Südsee erschlossen \nOhne sie wäre kein Europäer lebend zurückgekommen: Tupaia\, Maheine\, Mai – die Indigenen\, die James Cooks Entdeckungen in der Südsee erst möglich machten. \nJames Cook gilt als bedeutendster Entdecker nach Kolumbus. Freilich: Ohne Tupaia\, Maheine und Mai wären seine Reisen unmöglich gewesen. Sie führten Cook in die Welt der Südsee ein\, bewahrten seine Schiffe vor gefährlichen Korallenriffen und ersparten es ihm\, in Neuseeland von den Maori als Eindringling massakriert zu werden. \nTupaia\, Meisternavigator\, Hohepriester und Chefberater der Herrscher Tahitis erstellte eine Seekarte mit mehr als 70 unbekannten Inseln\, das erste schriftliche Dokument\, das das ungeheure nautische Wissen polynesischer Seefahrer belegt\, die auf ihren Übersee-Kanus den Pazifik schon Jahrtausende vor den Europäern befuhren. Kam er in Cooks Beschreibungen etwa nur deshalb kaum vor\, weil er an Bord an Skorbut erkrankte und bald darauf starb – Cook aber als Kapitän in die Seefahrtsgeschichte eingehen wollte\, der »keinen einzigen Mann an den Scharbock verloren« hatte? \nMaheine aus Bora-Bora ermöglichte es Cooks Expedition bei der zweiten Reise\, drei Jahre durchzuhalten und Zugang zu wichtigen Kultgegenständen zu bekommen. Er wurde von den Europäern vor allem als nützlicher Dolmetscher wahrgenommen. Tatsächlich waren seine genauen Kenntnisse unterschiedlicher Wertvorstellungen zwischen den polynesischen Inseln für Cooks Forschungsreise Gold wert. \nMai\, ein Schüler Tupaias\, begleitete die Briten bis nach London und erlangte dort bizarren Ruhm als „wilder Südseeprinz“\, der in den Salons der Stadt oder am Hofe König Georgs III. als völkerkundliche Kuriosität herumgereicht\, von berühmten Malern porträtiert\, ehrfürchtig bestaunt oder als Barbar karikiert wurde. Seine tatsächliche Motivation\, britische Feuerwaffen zu beschaffen\, um seine Heimatinsel Raiatea von den Invasoren der Nachbarinsel Bora-Bora befreien zu können\, wurde hier nicht erkannt. \nAuf der Basis jahrzehntelanger Beschäftigung mit James Cook und dessen Reisebegleiter Georg Forster\, ausgiebiger Recherche vor Ort\, Einbeziehung der Forschung und intensiven Quellenstudiums rückt der promovierte Historiker\, Autor\, Kurator\, Filmemacher und Chef vom Dienst bei Aspekte (ZDF) Frank Vorpahl das kurzsichtige koloniale Bild der Entdeckungsgeschichte zurecht und ermöglicht einen ganz neuen Blick auf James Cooks Entdeckungsreisen. \nAn den Anfang der Buchvorstellung wollen wir einen Ausschnitt aus Frank Vorpahls aktueller Fernsehdokumentation Einmal Raubkunst und zurück. Restitution im Fadenkreuz der Weltpolitik (August 2023) stellen\, der u. a. am Beispiel der inzwischen berühmten Benin-Bronzen die Problematik des kolonialen europäischen und deutschen Erbes und der Rückgabe der auf verbrecherischem Sklavenhandel beruhenden Kulturgüter deutlich macht. \nIm Anschluss besteht die Gelegenheit zur Diskussion mit dem Autor und dem Publikum. \nEintritt frei. Anmeldung unter: info@haus-des-erinnerns-mainz.de \n  \n 
URL:https://www.haus-des-erinnerns-mainz.de/index.php/veranstaltung/buchvorstellung-aufbruch-im-licht-der-sterne-mit-autor-frank-vorpahl/
LOCATION:Haus des Erinnerns – für Demokratie und Akzeptanz Mainz\, Flachsmarktstraße 36\, Mainz
CATEGORIES:Termin 2023
END:VEVENT
END:VCALENDAR