BEGIN:VCALENDAR
VERSION:2.0
PRODID:-//Haus des Erinnerns - ECPv6.15.20//NONSGML v1.0//EN
CALSCALE:GREGORIAN
METHOD:PUBLISH
X-WR-CALNAME:Haus des Erinnerns
X-ORIGINAL-URL:https://www.haus-des-erinnerns-mainz.de
X-WR-CALDESC:Veranstaltungen für Haus des Erinnerns
REFRESH-INTERVAL;VALUE=DURATION:PT1H
X-Robots-Tag:noindex
X-PUBLISHED-TTL:PT1H
BEGIN:VTIMEZONE
TZID:Europe/Berlin
BEGIN:DAYLIGHT
TZOFFSETFROM:+0100
TZOFFSETTO:+0200
TZNAME:CEST
DTSTART:20220327T010000
END:DAYLIGHT
BEGIN:STANDARD
TZOFFSETFROM:+0200
TZOFFSETTO:+0100
TZNAME:CET
DTSTART:20221030T010000
END:STANDARD
BEGIN:DAYLIGHT
TZOFFSETFROM:+0100
TZOFFSETTO:+0200
TZNAME:CEST
DTSTART:20230326T010000
END:DAYLIGHT
BEGIN:STANDARD
TZOFFSETFROM:+0200
TZOFFSETTO:+0100
TZNAME:CET
DTSTART:20231029T010000
END:STANDARD
BEGIN:DAYLIGHT
TZOFFSETFROM:+0100
TZOFFSETTO:+0200
TZNAME:CEST
DTSTART:20240331T010000
END:DAYLIGHT
BEGIN:STANDARD
TZOFFSETFROM:+0200
TZOFFSETTO:+0100
TZNAME:CET
DTSTART:20241027T010000
END:STANDARD
END:VTIMEZONE
BEGIN:VEVENT
DTSTART;TZID=Europe/Berlin:20230927T183000
DTEND;TZID=Europe/Berlin:20230927T183000
DTSTAMP:20260422T212455
CREATED:20230904T160208Z
LAST-MODIFIED:20230904T160238Z
UID:6231-1695839400-1695839400@www.haus-des-erinnerns-mainz.de
SUMMARY:Kinoseminar zum NS-Propagandafilm „Hitlerjunge Quex“
DESCRIPTION:Wie kaum ein anderes Medium prägte das Kino die 1930er Jahre. Im Rahmen des Themenschwerpunkts „Kindheit und Jugend im Nationalsozialismus“ organisiert das Haus des Erinnerns – für Demokratie und Akzeptanz Mainz  in Zusammenarbeit mit dem Institut für Kino und Filmforschung (IKF) am 27. September ein Kinoseminar zum wohl bekanntesten NS-Jugendpropagandafilm „Hitlerjunge Quex“. Gemeinsam mit dem Referenten Michael Kleinschmidt wird dabei in die Funktionsweisen und Wirkung der NS-Propaganda eingeführt. Am Beispiel dieses Propagandafilms wird erläutert\, wie die NS-Diktatur versuchte im neuen und attraktiven Kulturort Kino ihre Ideologie zu verbreiten. Mithilfe dieser Kontextualisierung sollen Fragen nach den historischen Hintergründen des Films und seiner besonderen propagandistischen Aussage geklärt werden. Der Fokus liegt dabei auch auf der gemeinsamen Analyse der Machart und der Intentionen der NS-Filme. \nAnmeldung wird erbeten unter: info@haus-des-erinnerns-mainz.de \nEine Veranstaltung in Kooperation mit dem Institut für Kino und Filmforschung (IKF) und der Landeszentrale für politische Bildung Rheinland-Pfalz (LpB)
URL:https://www.haus-des-erinnerns-mainz.de/index.php/veranstaltung/kinoseminar-zum-ns-propagandafilm-hitlerjunge-quex/
LOCATION:CAPITOL Filmtheater\, Neubrunnenstraße 9\, Mainz\, Rheinland-Pfalz\, 55116
CATEGORIES:Termin 2023
END:VEVENT
END:VCALENDAR