BEGIN:VCALENDAR
VERSION:2.0
PRODID:-//Haus des Erinnerns - ECPv6.15.20//NONSGML v1.0//EN
CALSCALE:GREGORIAN
METHOD:PUBLISH
X-WR-CALNAME:Haus des Erinnerns
X-ORIGINAL-URL:https://www.haus-des-erinnerns-mainz.de
X-WR-CALDESC:Veranstaltungen für Haus des Erinnerns
REFRESH-INTERVAL;VALUE=DURATION:PT1H
X-Robots-Tag:noindex
X-PUBLISHED-TTL:PT1H
BEGIN:VTIMEZONE
TZID:Europe/Berlin
BEGIN:DAYLIGHT
TZOFFSETFROM:+0100
TZOFFSETTO:+0200
TZNAME:CEST
DTSTART:20230326T010000
END:DAYLIGHT
BEGIN:STANDARD
TZOFFSETFROM:+0200
TZOFFSETTO:+0100
TZNAME:CET
DTSTART:20231029T010000
END:STANDARD
BEGIN:DAYLIGHT
TZOFFSETFROM:+0100
TZOFFSETTO:+0200
TZNAME:CEST
DTSTART:20240331T010000
END:DAYLIGHT
BEGIN:STANDARD
TZOFFSETFROM:+0200
TZOFFSETTO:+0100
TZNAME:CET
DTSTART:20241027T010000
END:STANDARD
BEGIN:DAYLIGHT
TZOFFSETFROM:+0100
TZOFFSETTO:+0200
TZNAME:CEST
DTSTART:20250330T010000
END:DAYLIGHT
BEGIN:STANDARD
TZOFFSETFROM:+0200
TZOFFSETTO:+0100
TZNAME:CET
DTSTART:20251026T010000
END:STANDARD
END:VTIMEZONE
BEGIN:VEVENT
DTSTART;TZID=Europe/Berlin:20240124T190000
DTEND;TZID=Europe/Berlin:20240124T203000
DTSTAMP:20260422T215054
CREATED:20231221T123446Z
LAST-MODIFIED:20231221T130115Z
UID:6543-1706122800-1706128200@www.haus-des-erinnerns-mainz.de
SUMMARY:Ausländische Zwangsarbeiterinnen und Zwangsarbeiter in Mainz während des Zweiten Weltkriegs
DESCRIPTION:Vortrag von Dr. Hedwig Brüchert mit Publikumsdiskussion \n \nVon 1939 bis 1945 mussten Millionen von Kriegsgefangenen und Zivilarbeitskräften unter meist unmenschlichen Bedingungen im nationalsozialistischen Deutschland Zwangsarbeit leisten\, davon auch mindestens 7.000 in Mainz und seinen damaligen rechtsrheinischen Stadtteilen. Sie waren während der Kriegsjahre nicht nur in der Rüstungsindustrie\, sondern auch in allen Mittel- und Kleinbetrieben\, im Handwerk und Gastgewerbe\, in der Landwirtschaft\, in Privathaushalten\, in Staats- und Kommunalbetrieben zu finden. Die Art und Weise der Rekrutierung sowie die Lebens- und Arbeitsbedingungen der Zwangsarbeitskräfte waren je nach ihrer Herkunft sehr unterschiedlich. „Ostarbeiter“ waren hinsichtlich ihrer Rechte und ihrer Ernährung wesentlich schlechter gestellt als „Westarbeiter“. \nDer Vortrag widmet sich vor allem den Menschen aus der Sowjetunion\, Polen und Frankreich. Auch die besondere Problematik der osteuropäischen Frauen und ihrer Kinder soll angesprochen werden. \n  \nAnmeldung per Mail an erinnerung@ente-bagdad.de \n► Die Veranstaltung ist Teil der Mainzer Erinnerungswochen \nEine Kooperationsveranstaltung mit FC Ente Bagdad\, VVN-BdA\, KV Mainz-Bingen\, Frauenbüro\nder Stadt Mainz\, dem 1. FSV Mainz 05\, dem Landessportbund RLP und der Akademie des Bistums\nMainz Erbacher Hof. \nBild: © Stadtarchiv Wiesbaden\, Ostarbeiterkartei
URL:https://www.haus-des-erinnerns-mainz.de/index.php/veranstaltung/auslaendische-zwangsarbeiterinnen-und-zwangsarbeiter-in-mainz-waehrend-des-zweiten-weltkriegs/
LOCATION:Haus des Erinnerns – für Demokratie und Akzeptanz Mainz\, Flachsmarktstraße 36\, Mainz
CATEGORIES:Januar,Termin 2024
END:VEVENT
BEGIN:VEVENT
DTSTART;TZID=Europe/Berlin:20240127T163000
DTEND;TZID=Europe/Berlin:20240127T183000
DTSTAMP:20260422T215054
CREATED:20231221T124048Z
LAST-MODIFIED:20231221T124048Z
UID:6550-1706373000-1706380200@www.haus-des-erinnerns-mainz.de
SUMMARY:Veranstaltungshinweis: „Gemeinsam für Erinnerung und Vielfalt“ | Stadionaktion mit Fußballspiel des FC Ente Bagdad
DESCRIPTION:Im Sommer 1973 spielte der FC Ente Bagdad\, der sich als Hobby-Fußballmannschaft gegründet hatte\, sein erstes offizielles Fußballspiel. Seitdem sind 50 Jahre vergangen\, in denen der „Hobbyverein“ sich nicht nur sportlich betätigt\, sondern auch aktiv für Toleranz\, Akzeptanz und Erinnerungsarbeit einsetzt. Seit 2017 initiieren sie die „Mainzer Erinnerungswochen“ rund um den Tag des Gedenkens an die Opfer des Nationalsozialismus am 27. Januar. \nAnlässlich des Erinnerungstages im deutschen Fußball wird unter dem Motto „Gemeinsam für Vielfalt“ ein Fußballspiel des FC Ente Bagdad mit begleitender Stadionaktion stattfinden. Die Ansprachen vor dem Anpfiff widmen sich dem Thema „Zwangsarbeit im Nationalsozialismus“ und lenken den Blick auf die Stadt Mainz und die Region. \nDer Eintritt ist frei. \nAnmeldung per Mail an erinnerung@ente-bagdad.de \n► Die Veranstaltung ist Teil der Mainzer Erinnerungswochen \nEine Kooperationsveranstaltung mit FC Ente Bagdad\, VVN-BdA\, KV Mainz-Bingen\, Frauenbüro der Stadt Mainz\, dem 1. FSV Mainz 05\, dem Landessportbund RLP und der Akademie des Bistums Mainz Erbacher Hof. \nBild: © FC Ente Bagdad
URL:https://www.haus-des-erinnerns-mainz.de/index.php/veranstaltung/veranstaltungshinweis-gemeinsam-fuer-erinnerung-und-vielfalt-stadionaktion-mit-fussballspiel-des-fc-ente-bagdad/
LOCATION:„Enten Arena“\, Ulrichstr. 38\, Mainz\, Rheinland-Pfalz\, 55128\, Deutschland
CATEGORIES:Januar,Termin 2024
END:VEVENT
END:VCALENDAR