BEGIN:VCALENDAR
VERSION:2.0
PRODID:-//Haus des Erinnerns - ECPv6.15.20//NONSGML v1.0//EN
CALSCALE:GREGORIAN
METHOD:PUBLISH
X-WR-CALNAME:Haus des Erinnerns
X-ORIGINAL-URL:https://www.haus-des-erinnerns-mainz.de
X-WR-CALDESC:Veranstaltungen für Haus des Erinnerns
REFRESH-INTERVAL;VALUE=DURATION:PT1H
X-Robots-Tag:noindex
X-PUBLISHED-TTL:PT1H
BEGIN:VTIMEZONE
TZID:Europe/Berlin
BEGIN:DAYLIGHT
TZOFFSETFROM:+0100
TZOFFSETTO:+0200
TZNAME:CEST
DTSTART:20250330T010000
END:DAYLIGHT
BEGIN:STANDARD
TZOFFSETFROM:+0200
TZOFFSETTO:+0100
TZNAME:CET
DTSTART:20251026T010000
END:STANDARD
BEGIN:DAYLIGHT
TZOFFSETFROM:+0100
TZOFFSETTO:+0200
TZNAME:CEST
DTSTART:20260329T010000
END:DAYLIGHT
BEGIN:STANDARD
TZOFFSETFROM:+0200
TZOFFSETTO:+0100
TZNAME:CET
DTSTART:20261025T010000
END:STANDARD
BEGIN:DAYLIGHT
TZOFFSETFROM:+0100
TZOFFSETTO:+0200
TZNAME:CEST
DTSTART:20270328T010000
END:DAYLIGHT
BEGIN:STANDARD
TZOFFSETFROM:+0200
TZOFFSETTO:+0100
TZNAME:CET
DTSTART:20271031T010000
END:STANDARD
END:VTIMEZONE
BEGIN:VEVENT
DTSTART;TZID=Europe/Berlin:20260423T140000
DTEND;TZID=Europe/Berlin:20260423T180000
DTSTAMP:20260423T011200
CREATED:20260417T111825Z
LAST-MODIFIED:20260417T111825Z
UID:8450-1776952800-1776967200@www.haus-des-erinnerns-mainz.de
SUMMARY:Queer Life – Between Persecution & Emancipation | Workshop in English
DESCRIPTION:In the Career Service’s project “Queer Life – Between Persecution & Emancipation” international students of JGU and the FORTHEM Alliance – with the help of the Haus des Erinnerns Mainz – spent months exploring questions of identity\, gender\, sexual orientation\, and social norms to uncover the hidden stories of queer people in different countries throughout history. What was discovered during the project is now being showcased in a project presentation and a workshop. And you can join in! \nIn the workshop\, we’ll explore untold and forgotten stories of queer individuals and activists\, and get to know their lives and struggles. Together we’ll create individual zines about what we discovered.\nWe invite you to come to the presentation and/or workshop to learn more about queer realities in Mainz and around the world and to discuss what living a queer life means to you! \nSince the available spots are limited and to ensure that the discussion takes place on as equal a footing as possible\, a registration is needed for both events. \nYou can find more information and register here: www.career.uni-mainz.de/queer-life \nVisit the instagram of Haus des Erinnerns for some sneak peaks: (www.instagram.com/hde_mainz)
URL:https://www.haus-des-erinnerns-mainz.de/index.php/veranstaltung/queer-life-between-persecution-emancipation-workshop-in-english/
LOCATION:Haus des Erinnerns – für Demokratie und Akzeptanz Mainz\, Flachsmarktstraße 36\, Mainz
END:VEVENT
END:VCALENDAR